BEGIN:VCALENDAR
VERSION:2.0
PRODID:-//Majestri//SmartCal//EN
BEGIN:VEVENT
UID:591a6502bcd943cf8ca1d0299413d9d8
DTSTAMP:20260419T140000Z
DTSTART:20260424T140000Z
DTEND:20260424T140000Z
SUMMARY:Queensland Public Holiday
DESCRIPTION:Queensland Public Holiday
END:VEVENT
BEGIN:VEVENT
UID:ad87d38b74554d469d50f1c2bf908df4
DTSTAMP:20260419T140000Z
DTSTART:20260503T140000Z
DTEND:20260503T140000Z
SUMMARY:Queensland Public Holiday
DESCRIPTION:Queensland Public Holiday
END:VEVENT
BEGIN:VEVENT
UID:30e515394f6b4df794aeeb24726ba6f6
DTSTAMP:20260419T140000Z
DTSTART:20260811T140000Z
DTEND:20260811T140000Z
SUMMARY:Queensland Public Holiday
DESCRIPTION:Queensland Public Holiday
END:VEVENT
BEGIN:VEVENT
UID:43e80f6abaec432887aa1eac9d9e6af4
DTSTAMP:20260419T140000Z
DTSTART:20260626T140000Z
DTEND:20260626T140000Z
SUMMARY:Queensland School Holidays
DESCRIPTION:Queensland School Holidays - no scheduled fixtures

27th June to 12th July
END:VEVENT
BEGIN:VEVENT
UID:a4d1aa3253534f2d909d408f6501a5a7
DTSTAMP:20260419T140000Z
DTSTART:20260423T140000Z
DTEND:20260423T140000Z
SUMMARY:Dayboro Dingoes Over 35 Mens vs UQFC Fifiths
DESCRIPTION:Dayboro Dingoes Over 35 Mens vs UQFC Fifths
Home Game
END:VEVENT
BEGIN:VEVENT
UID:091a7f58bdd444eca44df1e68e98360c
DTSTAMP:20260419T140000Z
DTSTART:20260507T140000Z
DTEND:20260507T140000Z
SUMMARY:Dayboro Dingoes Over 35 Mens vs Pine Hills O35's Div 5
DESCRIPTION:Dayboro Dingoes Over 35 Mens vs Pine Hills O35's Div 5
Home Game
END:VEVENT
BEGIN:VEVENT
UID:a0bc7fb71859487ba317f63d3048d427
DTSTAMP:20260419T140000Z
DTSTART:20260521T140000Z
DTEND:20260521T140000Z
SUMMARY:Dayboro Dingoes Over 35 Mens vs Power 35s Div 5
DESCRIPTION:Dayboro Dingoes Over 35 Mens vs Power 35s Div 5
END:VEVENT
BEGIN:VEVENT
UID:dfe59ebe25e94bdc901edb68e09b1964
DTSTAMP:20260419T140000Z
DTSTART:20260604T140000Z
DTEND:20260604T140000Z
SUMMARY:Dayboro Dingoes Over 35 Mens vs Arya
DESCRIPTION:Dayboro Dingoes Over 35 Mens vs Arya
END:VEVENT
BEGIN:VEVENT
UID:4dc38285e4df48d0afc6c2b118b04bd1
DTSTAMP:20260419T140000Z
DTSTART:20260723T140000Z
DTEND:20260723T140000Z
SUMMARY:Dayboro Dingoes Over 35 Mens vs MCE Hammer
DESCRIPTION:Dayboro Dingoes Over 35 Mens vs MCE Hammer
Home Game
END:VEVENT
BEGIN:VEVENT
UID:6c39e913a5b4436dab42cbb8681f93c9
DTSTAMP:20260419T140000Z
DTSTART:20260806T140000Z
DTEND:20260806T140000Z
SUMMARY:Dayboro Dingoes Over 35 Mens vs Mitchelton Mavericks
DESCRIPTION:Dayboro Dingoes Over 35 Mens vs Mitchelton Mavericks
Home Game
END:VEVENT
BEGIN:VEVENT
UID:acf1250e7c3b41bfb2632545c1cd0f09
DTSTAMP:20260419T140000Z
DTSTART:20260820T140000Z
DTEND:20260820T140000Z
SUMMARY:Dayboro Dingoes Over 35 Mens vs New Farm United O35 Division 5
DESCRIPTION:Dayboro Dingoes Over 35 Mens vs New Farm United O35 Div 5
Home game
END:VEVENT
BEGIN:VEVENT
UID:a73208bc8d6b4c75baf62d64ac5eaad2
DTSTAMP:20260419T140000Z
DTSTART:20260420T070000Z
DTEND:20260420T080000Z
SUMMARY:Monday Night Skills Term 2
DESCRIPTION:Monday Night Skills Training - Term 2

Monday nights at the Dingoes are all about sharpening the fundamentals. Our skills sessions focus on the core building blocks of the game - first touch, passing, dribbling, 1v1s and decision-making - in a fun, supportive environment that encourages players to try, fail, and grow.

Open to players across our Under 8s through Under 15's, sessions are led by club coaches under the guidance of our Director of Football, Dylan Burns, and designed to complement your regular team training.

Whether you're just starting out or working toward the next level, Monday skills training is a great way to get more touches on the ball, build confidence, and enjoy football with your mates!

Term 2 Monday Skills Training will run Monday evenings from 5:00pm to 6:00pm Monday 20th April to Monday June 22nd.

Please register to attend using the link below.
END:VEVENT
BEGIN:VEVENT
UID:7c9b88e708484801adc759fc302b5769
DTSTAMP:20260419T140000Z
DTSTART:20260427T070000Z
DTEND:20260427T080000Z
SUMMARY:Monday Night Skills Term 2
DESCRIPTION:Monday Night Skills Training - Term 2

Monday nights at the Dingoes are all about sharpening the fundamentals. Our skills sessions focus on the core building blocks of the game - first touch, passing, dribbling, 1v1s and decision-making - in a fun, supportive environment that encourages players to try, fail, and grow.

Open to players across our Under 8s through Under 15's, sessions are led by club coaches under the guidance of our Director of Football, Dylan Burns, and designed to complement your regular team training.

Whether you're just starting out or working toward the next level, Monday skills training is a great way to get more touches on the ball, build confidence, and enjoy football with your mates!

Term 2 Monday Skills Training will run Monday evenings from 5:00pm to 6:00pm Monday 20th April to Monday June 22nd.

Please register to attend using the link below. You only need to register ONCE.
END:VEVENT
BEGIN:VEVENT
UID:8296f6825002406a9535470fc3005353
DTSTAMP:20260419T140000Z
DTSTART:20260504T070000Z
DTEND:20260504T080000Z
SUMMARY:Monday Night Skills Term 2
DESCRIPTION:Monday Night Skills Training - Term 2

Monday nights at the Dingoes are all about sharpening the fundamentals. Our skills sessions focus on the core building blocks of the game - first touch, passing, dribbling, 1v1s and decision-making - in a fun, supportive environment that encourages players to try, fail, and grow.

Open to players across our Under 8s through Under 15's, sessions are led by club coaches under the guidance of our Director of Football, Dylan Burns, and designed to complement your regular team training.

Whether you're just starting out or working toward the next level, Monday skills training is a great way to get more touches on the ball, build confidence, and enjoy football with your mates!

Term 2 Monday Skills Training will run Monday evenings from 5:00pm to 6:00pm Monday 20th April to Monday June 22nd.

Please register to attend using the link below.
END:VEVENT
BEGIN:VEVENT
UID:f0ebc04ea10149e193605a3861be14bd
DTSTAMP:20260419T140000Z
DTSTART:20260511T070000Z
DTEND:20260511T080000Z
SUMMARY:Monday Night Skills Term 2
DESCRIPTION:Monday Night Skills Training - Term 2

Monday nights at the Dingoes are all about sharpening the fundamentals. Our skills sessions focus on the core building blocks of the game - first touch, passing, dribbling, 1v1s and decision-making - in a fun, supportive environment that encourages players to try, fail, and grow.

Open to players across our Under 8s through Under 15's, sessions are led by club coaches under the guidance of our Director of Football, Dylan Burns, and designed to complement your regular team training.

Whether you're just starting out or working toward the next level, Monday skills training is a great way to get more touches on the ball, build confidence, and enjoy football with your mates!

Term 2 Monday Skills Training will run Monday evenings from 5:00pm to 6:00pm Monday 20th April to Monday June 22nd.

Please register to attend using the link below.
END:VEVENT
BEGIN:VEVENT
UID:3027d199402744b085dfde9493194c4a
DTSTAMP:20260419T140000Z
DTSTART:20260518T070000Z
DTEND:20260518T080000Z
SUMMARY:Monday Night Skills Term 2
DESCRIPTION:Monday Night Skills Training - Term 2

Monday nights at the Dingoes are all about sharpening the fundamentals. Our skills sessions focus on the core building blocks of the game - first touch, passing, dribbling, 1v1s and decision-making - in a fun, supportive environment that encourages players to try, fail, and grow.

Open to players across our Under 8s through Under 15's, sessions are led by club coaches under the guidance of our Director of Football, Dylan Burns, and designed to complement your regular team training.

Whether you're just starting out or working toward the next level, Monday skills training is a great way to get more touches on the ball, build confidence, and enjoy football with your mates!

Term 2 Monday Skills Training will run Monday evenings from 5:00pm to 6:00pm Monday 20th April to Monday June 22nd.

Please register to attend using the link below.
END:VEVENT
BEGIN:VEVENT
UID:4512e81e2f0c483186afcb1bd0b00c11
DTSTAMP:20260419T140000Z
DTSTART:20260525T070000Z
DTEND:20260525T080000Z
SUMMARY:Monday Night Skills Term 2
DESCRIPTION:Monday Night Skills Training - Term 2

Monday nights at the Dingoes are all about sharpening the fundamentals. Our skills sessions focus on the core building blocks of the game - first touch, passing, dribbling, 1v1s and decision-making - in a fun, supportive environment that encourages players to try, fail, and grow.

Open to players across our Under 8s through Under 15's, sessions are led by club coaches under the guidance of our Director of Football, Dylan Burns, and designed to complement your regular team training.

Whether you're just starting out or working toward the next level, Monday skills training is a great way to get more touches on the ball, build confidence, and enjoy football with your mates!

Term 2 Monday Skills Training will run Monday evenings from 5:00pm to 6:00pm Monday 20th April to Monday June 22nd.

Please register to attend using the link below.
END:VEVENT
BEGIN:VEVENT
UID:67cd6f73fd3e45e18aa5d09fc6908529
DTSTAMP:20260419T140000Z
DTSTART:20260601T070000Z
DTEND:20260601T080000Z
SUMMARY:Monday Night Skills Term 2
DESCRIPTION:Monday Night Skills Training - Term 2

Monday nights at the Dingoes are all about sharpening the fundamentals. Our skills sessions focus on the core building blocks of the game - first touch, passing, dribbling, 1v1s and decision-making - in a fun, supportive environment that encourages players to try, fail, and grow.

Open to players across our Under 8s through Under 15's, sessions are led by club coaches under the guidance of our Director of Football, Dylan Burns, and designed to complement your regular team training.

Whether you're just starting out or working toward the next level, Monday skills training is a great way to get more touches on the ball, build confidence, and enjoy football with your mates!

Term 2 Monday Skills Training will run Monday evenings from 5:00pm to 6:00pm Monday 20th April to Monday June 22nd.

Please register to attend using the link below.
END:VEVENT
BEGIN:VEVENT
UID:b24be6e6a9fc48b0b708e66689e3f5fc
DTSTAMP:20260419T140000Z
DTSTART:20260608T070000Z
DTEND:20260608T080000Z
SUMMARY:Monday Night Skills Term 2
DESCRIPTION:Monday Night Skills Training - Term 2

Monday nights at the Dingoes are all about sharpening the fundamentals. Our skills sessions focus on the core building blocks of the game - first touch, passing, dribbling, 1v1s and decision-making - in a fun, supportive environment that encourages players to try, fail, and grow.

Open to players across our Under 8s through Under 15's, sessions are led by club coaches under the guidance of our Director of Football, Dylan Burns, and designed to complement your regular team training.

Whether you're just starting out or working toward the next level, Monday skills training is a great way to get more touches on the ball, build confidence, and enjoy football with your mates!

Term 2 Monday Skills Training will run Monday evenings from 5:00pm to 6:00pm Monday 20th April to Monday June 22nd.

Please register to attend using the link below.
END:VEVENT
BEGIN:VEVENT
UID:8d121402d079480a94087da323be037c
DTSTAMP:20260419T140000Z
DTSTART:20260615T070000Z
DTEND:20260615T080000Z
SUMMARY:Monday Night Skills Term 2
DESCRIPTION:Monday Night Skills Training - Term 2

Monday nights at the Dingoes are all about sharpening the fundamentals. Our skills sessions focus on the core building blocks of the game - first touch, passing, dribbling, 1v1s and decision-making - in a fun, supportive environment that encourages players to try, fail, and grow.

Open to players across our Under 8s through Under 15's, sessions are led by club coaches under the guidance of our Director of Football, Dylan Burns, and designed to complement your regular team training.

Whether you're just starting out or working toward the next level, Monday skills training is a great way to get more touches on the ball, build confidence, and enjoy football with your mates!

Term 2 Monday Skills Training will run Monday evenings from 5:00pm to 6:00pm Monday 20th April to Monday June 22nd.

Please register to attend using the link below.
END:VEVENT
BEGIN:VEVENT
UID:bd4f355cc9584761989ec911ff8319ad
DTSTAMP:20260419T140000Z
DTSTART:20260622T070000Z
DTEND:20260622T080000Z
SUMMARY:Monday Night Skills Term 2
DESCRIPTION:Monday Night Skills Training - Term 2

Monday nights at the Dingoes are all about sharpening the fundamentals. Our skills sessions focus on the core building blocks of the game - first touch, passing, dribbling, 1v1s and decision-making - in a fun, supportive environment that encourages players to try, fail, and grow.

Open to players across our Under 8s through Under 15's, sessions are led by club coaches under the guidance of our Director of Football, Dylan Burns, and designed to complement your regular team training.

Whether you're just starting out or working toward the next level, Monday skills training is a great way to get more touches on the ball, build confidence, and enjoy football with your mates!

Term 2 Monday Skills Training will run Monday evenings from 5:00pm to 6:00pm Monday 20th April to Monday June 22nd.

Please register to attend using the link below.
END:VEVENT
END:VCALENDAR
